BEGIN:VCALENDAR
VERSION:2.0
PRODID:gruene-egelsbach.de
METHOD:PUBLISH
BEGIN:VTIMEZONE
TZID:Europe/Berlin
X-LIC-LOCATION:Europe/Berlin
BEGIN:DAYLIGHT
TZOFFSETFROM:+0100
TZOFFSETTO:+0200
TZNAME:CEST
DTSTART:19700329T020000
RRULE:FREQ=YEARLY;INTERVAL=1;BYDAY=-1SU;BYMONTH=3
END:DAYLIGHT
BEGIN:STANDARD
TZOFFSETFROM:+0200
TZOFFSETTO:+0100
TZNAME:CET
DTSTART:19701025T030000
RRULE:FREQ=YEARLY;INTERVAL=1;BYDAY=-1SU;BYMONTH=10
END:STANDARD
END:VTIMEZONE
BEGIN:VEVENT
UID:c283b43634a82fd48364baa9aa0713f6@gruene-egelsbach.de
URL;VALUE=URI:https://gruene-egelsbach.de/termine/auslaenderbeirat-2/
LOCATION:Rathaus, 63329 Egelsbach, Raum 25
SUMMARY:Ausländerbeirat
DESCRIPTION;ALTREP="data:text/html,%3Cp%3ELink%20zur%20Tagesordnung%3A%20
 https%3A%2F%2Frim.ekom21.de%2Fegelsbach%2Ftops%2F%3F__%3DUGhVM0hpd2NXNFdF
 cExjZZwRjfWX67wjTCRbkj6neTw%3Cbr%20%2F%3E%0A%3Cbr%20%2F%3E%0ABemerkung%3A
 %3Cbr%20%2F%3E%0AKonstituierende%20Sitzung%3C%2Fp%3E":Link zur Tagesordnu
 ng: https://rim.ekom21.de/egelsbach/tops/?__=UGhVM0hpd2NXNFdFcExjZZwRjfWX
 67wjTCRbkj6neTw\n\nBemerkung:\n\nKonstituierende Sitzung
CLASS:PUBLIC
DTSTART;TZID=Europe/Berlin:20260423T190000
DTEND;TZID=Europe/Berlin:20260423T210000
DTSTAMP:20260420T082108
END:VEVENT
BEGIN:VEVENT
UID:11a4ce6fbfd277f58ee1ef134187a62c@gruene-egelsbach.de
URL;VALUE=URI:https://gruene-egelsbach.de/termine/jugendparlament-2/
LOCATION:Rathaus, 63329 Egelsbach, Raum 25
SUMMARY:Jugendparlament
DESCRIPTION;ALTREP="data:text/html,%3Cp%3ELink%20zur%20Tagesordnung%3A%20
 https%3A%2F%2Frim.ekom21.de%2Fegelsbach%2Ftops%2F%3F__%3DUGhVM0hpd2NXNFdF
 cExjZcvDAAT1N9dXrIgVUwADBPQ%3C%2Fp%3E":Link zur Tagesordnung: https://rim
 .ekom21.de/egelsbach/tops/?__=UGhVM0hpd2NXNFdFcExjZcvDAAT1N9dXrIgVUwADBPQ
CLASS:PUBLIC
DTSTART;TZID=Europe/Berlin:20260429T170000
DTEND;TZID=Europe/Berlin:20260429T190000
DTSTAMP:20260420T082108
END:VEVENT
BEGIN:VEVENT
UID:c1e3a2cc19532ce05e71207b845e651f@gruene-egelsbach.de
URL;VALUE=URI:https://gruene-egelsbach.de/termine/bau-und-umweltausschuss
 -2/
LOCATION:Rathaus, 63329 Egelsbach, Raum 25
SUMMARY:Bau- und Umweltausschuss
DESCRIPTION;ALTREP="data:text/html,%3Cp%3ELink%20zur%20Tagesordnung%3A%20
 https%3A%2F%2Frim.ekom21.de%2Fegelsbach%2Ftops%2F%3F__%3DUGhVM0hpd2NXNFdF
 cExjZQLcz3lt6d8oRoPOFYDsD24%3C%2Fp%3E":Link zur Tagesordnung: https://rim
 .ekom21.de/egelsbach/tops/?__=UGhVM0hpd2NXNFdFcExjZQLcz3lt6d8oRoPOFYDsD24
CLASS:PUBLIC
DTSTART;TZID=Europe/Berlin:20260505T200000
DTEND;TZID=Europe/Berlin:20260505T220000
DTSTAMP:20260420T082108
END:VEVENT
BEGIN:VEVENT
UID:746450e86f0e0c38095148e9e71d093e@gruene-egelsbach.de
URL;VALUE=URI:https://gruene-egelsbach.de/termine/sozial-und-kulturaussch
 uss-2/
LOCATION:Rathaus, 63329 Egelsbach, Raum 25
SUMMARY:Sozial- und Kulturausschuss
DESCRIPTION;ALTREP="data:text/html,%3Cp%3ELink%20zur%20Tagesordnung%3A%20
 https%3A%2F%2Frim.ekom21.de%2Fegelsbach%2Ftops%2F%3F__%3DUGhVM0hpd2NXNFdF
 cExjZXLoM8B7gdLDsvP8z7SVVlU%3C%2Fp%3E":Link zur Tagesordnung: https://rim
 .ekom21.de/egelsbach/tops/?__=UGhVM0hpd2NXNFdFcExjZXLoM8B7gdLDsvP8z7SVVlU
CLASS:PUBLIC
DTSTART;TZID=Europe/Berlin:20260507T200000
DTEND;TZID=Europe/Berlin:20260507T220000
DTSTAMP:20260420T082108
END:VEVENT
BEGIN:VEVENT
UID:24fb9f916beb13bc5ad18305ea7e6d67@gruene-egelsbach.de
URL;VALUE=URI:https://gruene-egelsbach.de/termine/haupt-und-finanzausschu
 ss-4/
LOCATION:Rathaus, 63329 Egelsbach, Raum 25
SUMMARY:Haupt- und Finanzausschuss
DESCRIPTION;ALTREP="data:text/html,%3Cp%3ELink%20zur%20Tagesordnung%3A%20
 https%3A%2F%2Frim.ekom21.de%2Fegelsbach%2Ftops%2F%3F__%3DUGhVM0hpd2NXNFdF
 cExjZcZ9cYMLH78A70-wyF9UPF8%3C%2Fp%3E":Link zur Tagesordnung: https://rim
 .ekom21.de/egelsbach/tops/?__=UGhVM0hpd2NXNFdFcExjZcZ9cYMLH78A70-wyF9UPF8
CLASS:PUBLIC
DTSTART;TZID=Europe/Berlin:20260513T200000
DTEND;TZID=Europe/Berlin:20260513T220000
DTSTAMP:20260420T082108
END:VEVENT
BEGIN:VEVENT
UID:136731a5c9edca08bc2fab19404f7905@gruene-egelsbach.de
URL;VALUE=URI:https://gruene-egelsbach.de/termine/praesidium-3/
LOCATION:Rathaus, 63329 Egelsbach, Raum 28
SUMMARY:Präsidium
DESCRIPTION;ALTREP="data:text/html,%3Cp%3ELink%20zur%20Tagesordnung%3A%20
 https%3A%2F%2Frim.ekom21.de%2Fegelsbach%2Ftops%2F%3F__%3DUGhVM0hpd2NXNFdF
 cExjZfoHA1sMuDVz2O_D-DYoAhY%3C%2Fp%3E":Link zur Tagesordnung: https://rim
 .ekom21.de/egelsbach/tops/?__=UGhVM0hpd2NXNFdFcExjZfoHA1sMuDVz2O_D-DYoAhY
CLASS:PUBLIC
DTSTART;TZID=Europe/Berlin:20260521T190000
DTEND;TZID=Europe/Berlin:20260521T200000
DTSTAMP:20260420T082108
END:VEVENT
BEGIN:VEVENT
UID:f8e6f2e461dd392596b3c84748848f71@gruene-egelsbach.de
URL;VALUE=URI:https://gruene-egelsbach.de/termine/gemeindevertretung-5/
LOCATION:Rathaus, 63329 Egelsbach, Raum 25
SUMMARY:Gemeindevertretung
DESCRIPTION;ALTREP="data:text/html,%3Cp%3ELink%20zur%20Tagesordnung%3A%20
 https%3A%2F%2Frim.ekom21.de%2Fegelsbach%2Ftops%2F%3F__%3DUGhVM0hpd2NXNFdF
 cExjZSsI8yPK9igHm-ejk3GoukY%3C%2Fp%3E":Link zur Tagesordnung: https://rim
 .ekom21.de/egelsbach/tops/?__=UGhVM0hpd2NXNFdFcExjZSsI8yPK9igHm-ejk3GoukY
CLASS:PUBLIC
DTSTART;TZID=Europe/Berlin:20260521T200000
DTEND;TZID=Europe/Berlin:20260521T220000
DTSTAMP:20260420T082108
END:VEVENT
BEGIN:VEVENT
UID:2a2a568f580e0179e703cf5297a703bf@gruene-egelsbach.de
URL;VALUE=URI:https://gruene-egelsbach.de/termine/jugendparlament-3/
LOCATION:Rathaus, 63329 Egelsbach, Raum 25
SUMMARY:Jugendparlament
DESCRIPTION;ALTREP="data:text/html,%3Cp%3ELink%20zur%20Tagesordnung%3A%20
 https%3A%2F%2Frim.ekom21.de%2Fegelsbach%2Ftops%2F%3F__%3DUGhVM0hpd2NXNFdF
 cExjZfr1jzy-73d6-HpIobf1kTg%3C%2Fp%3E":Link zur Tagesordnung: https://rim
 .ekom21.de/egelsbach/tops/?__=UGhVM0hpd2NXNFdFcExjZfr1jzy-73d6-HpIobf1kTg
CLASS:PUBLIC
DTSTART;TZID=Europe/Berlin:20260610T170000
DTEND;TZID=Europe/Berlin:20260610T190000
DTSTAMP:20260420T082108
END:VEVENT
BEGIN:VEVENT
UID:84ab9cb224f1ad8ee82c5bb99c52b865@gruene-egelsbach.de
URL;VALUE=URI:https://gruene-egelsbach.de/termine/auslaenderbeirat-3/
LOCATION:Rathaus, 63329 Egelsbach, Raum 25
SUMMARY:Ausländerbeirat
DESCRIPTION;ALTREP="data:text/html,%3Cp%3ELink%20zur%20Tagesordnung%3A%20
 https%3A%2F%2Frim.ekom21.de%2Fegelsbach%2Ftops%2F%3F__%3DUGhVM0hpd2NXNFdF
 cExjZcyxtpjNBlDiuVjOskC7V0Y%3C%2Fp%3E":Link zur Tagesordnung: https://rim
 .ekom21.de/egelsbach/tops/?__=UGhVM0hpd2NXNFdFcExjZcyxtpjNBlDiuVjOskC7V0Y
CLASS:PUBLIC
DTSTART;TZID=Europe/Berlin:20260611T190000
DTEND;TZID=Europe/Berlin:20260611T210000
DTSTAMP:20260420T082108
END:VEVENT
BEGIN:VEVENT
UID:5223ec82c43900777a82b40df3bf150b@gruene-egelsbach.de
URL;VALUE=URI:https://gruene-egelsbach.de/termine/bau-und-umweltausschuss
 -3/
LOCATION:Rathaus, 63329 Egelsbach, Raum 25
SUMMARY:Bau- und Umweltausschuss
DESCRIPTION;ALTREP="data:text/html,%3Cp%3ELink%20zur%20Tagesordnung%3A%20
 https%3A%2F%2Frim.ekom21.de%2Fegelsbach%2Ftops%2F%3F__%3DUGhVM0hpd2NXNFdF
 cExjZd6hJPhur7yfMXEzzqQYjSU%3C%2Fp%3E":Link zur Tagesordnung: https://rim
 .ekom21.de/egelsbach/tops/?__=UGhVM0hpd2NXNFdFcExjZd6hJPhur7yfMXEzzqQYjSU
CLASS:PUBLIC
DTSTART;TZID=Europe/Berlin:20260616T200000
DTEND;TZID=Europe/Berlin:20260616T220000
DTSTAMP:20260420T082108
END:VEVENT
BEGIN:VEVENT
UID:06bd378690f3d6975e13a05126b2ee00@gruene-egelsbach.de
URL;VALUE=URI:https://gruene-egelsbach.de/termine/sozial-und-kulturaussch
 uss-3/
LOCATION:Rathaus, 63329 Egelsbach, Raum 25
SUMMARY:Sozial- und Kulturausschuss
DESCRIPTION;ALTREP="data:text/html,%3Cp%3ELink%20zur%20Tagesordnung%3A%20
 https%3A%2F%2Frim.ekom21.de%2Fegelsbach%2Ftops%2F%3F__%3DUGhVM0hpd2NXNFdF
 cExjZYWufvnKXFsr0cTHWwfTnKo%3C%2Fp%3E":Link zur Tagesordnung: https://rim
 .ekom21.de/egelsbach/tops/?__=UGhVM0hpd2NXNFdFcExjZYWufvnKXFsr0cTHWwfTnKo
CLASS:PUBLIC
DTSTART;TZID=Europe/Berlin:20260618T200000
DTEND;TZID=Europe/Berlin:20260618T220000
DTSTAMP:20260420T082108
END:VEVENT
BEGIN:VEVENT
UID:46cfc1ab579f200ce5f13c02d6e7bb25@gruene-egelsbach.de
URL;VALUE=URI:https://gruene-egelsbach.de/termine/haupt-und-finanzausschu
 ss-5/
LOCATION:Rathaus, 63329 Egelsbach, Raum 25
SUMMARY:Haupt- und Finanzausschuss
DESCRIPTION;ALTREP="data:text/html,%3Cp%3ELink%20zur%20Tagesordnung%3A%20
 https%3A%2F%2Frim.ekom21.de%2Fegelsbach%2Ftops%2F%3F__%3DUGhVM0hpd2NXNFdF
 cExjZQtlMncpvQ0B773VWwl-38Y%3C%2Fp%3E":Link zur Tagesordnung: https://rim
 .ekom21.de/egelsbach/tops/?__=UGhVM0hpd2NXNFdFcExjZQtlMncpvQ0B773VWwl-38Y
CLASS:PUBLIC
DTSTART;TZID=Europe/Berlin:20260623T200000
DTEND;TZID=Europe/Berlin:20260623T220000
DTSTAMP:20260420T082108
END:VEVENT
BEGIN:VEVENT
UID:22088d0e16f18aee9c8525fb92fd723c@gruene-egelsbach.de
URL;VALUE=URI:https://gruene-egelsbach.de/termine/praesidium-4/
LOCATION:Rathaus, 63329 Egelsbach, Raum 28
SUMMARY:Präsidium
DESCRIPTION;ALTREP="data:text/html,%3Cp%3ELink%20zur%20Tagesordnung%3A%20
 https%3A%2F%2Frim.ekom21.de%2Fegelsbach%2Ftops%2F%3F__%3DUGhVM0hpd2NXNFdF
 cExjZbeszBZ2x8YMp2w3bofiwgs%3C%2Fp%3E":Link zur Tagesordnung: https://rim
 .ekom21.de/egelsbach/tops/?__=UGhVM0hpd2NXNFdFcExjZbeszBZ2x8YMp2w3bofiwgs
CLASS:PUBLIC
DTSTART;TZID=Europe/Berlin:20260625T190000
DTEND;TZID=Europe/Berlin:20260625T200000
DTSTAMP:20260420T082108
END:VEVENT
BEGIN:VEVENT
UID:cc5830ac5d4a909d61af92cca56970ea@gruene-egelsbach.de
URL;VALUE=URI:https://gruene-egelsbach.de/termine/gemeindevertretung-6/
LOCATION:Rathaus, 63329 Egelsbach, Raum 25
SUMMARY:Gemeindevertretung
DESCRIPTION;ALTREP="data:text/html,%3Cp%3ELink%20zur%20Tagesordnung%3A%20
 https%3A%2F%2Frim.ekom21.de%2Fegelsbach%2Ftops%2F%3F__%3DUGhVM0hpd2NXNFdF
 cExjZexZa0P2VZuwHafJWq2ZfeQ%3C%2Fp%3E":Link zur Tagesordnung: https://rim
 .ekom21.de/egelsbach/tops/?__=UGhVM0hpd2NXNFdFcExjZexZa0P2VZuwHafJWq2ZfeQ
CLASS:PUBLIC
DTSTART;TZID=Europe/Berlin:20260625T200000
DTEND;TZID=Europe/Berlin:20260625T220000
DTSTAMP:20260420T082108
END:VEVENT
BEGIN:VEVENT
UID:2ed7a47b8a2a3a3977e4121fcf708617@gruene-egelsbach.de
URL;VALUE=URI:https://gruene-egelsbach.de/termine/jugendparlament/
LOCATION:Rathaus, 63329 Egelsbach, Raum 25
SUMMARY:Jugendparlament
DESCRIPTION;ALTREP="data:text/html,%3Cp%3ELink%20zur%20Tagesordnung%3A%20
 https%3A%2F%2Frim.ekom21.de%2Fegelsbach%2Ftops%2F%3F__%3DUGhVM0hpd2NXNFdF
 cExjZVfkG42id4gLiUbroWnKBCo%3C%2Fp%3E":Link zur Tagesordnung: https://rim
 .ekom21.de/egelsbach/tops/?__=UGhVM0hpd2NXNFdFcExjZVfkG42id4gLiUbroWnKBCo
CLASS:PUBLIC
DTSTART;TZID=Europe/Berlin:20260902T170000
DTEND;TZID=Europe/Berlin:20260902T190000
DTSTAMP:20260420T082108
END:VEVENT
BEGIN:VEVENT
UID:e1807bccac920f564b96876a838c9893@gruene-egelsbach.de
URL;VALUE=URI:https://gruene-egelsbach.de/termine/auslaenderbeirat/
LOCATION:Rathaus, 63329 Egelsbach, Raum 25
SUMMARY:Ausländerbeirat
DESCRIPTION;ALTREP="data:text/html,%3Cp%3ELink%20zur%20Tagesordnung%3A%20
 https%3A%2F%2Frim.ekom21.de%2Fegelsbach%2Ftops%2F%3F__%3DUGhVM0hpd2NXNFdF
 cExjZXwMfu4_LXi08WQXew0blJs%3C%2Fp%3E":Link zur Tagesordnung: https://rim
 .ekom21.de/egelsbach/tops/?__=UGhVM0hpd2NXNFdFcExjZXwMfu4_LXi08WQXew0blJs
CLASS:PUBLIC
DTSTART;TZID=Europe/Berlin:20260903T190000
DTEND;TZID=Europe/Berlin:20260903T210000
DTSTAMP:20260420T082108
END:VEVENT
BEGIN:VEVENT
UID:884e138241dfc72d75bb4ab9dce6e9d1@gruene-egelsbach.de
URL;VALUE=URI:https://gruene-egelsbach.de/termine/bau-und-umweltausschuss
 /
LOCATION:Rathaus, 63329 Egelsbach, Raum 25
SUMMARY:Bau- und Umweltausschuss
DESCRIPTION;ALTREP="data:text/html,%3Cp%3ELink%20zur%20Tagesordnung%3A%20
 https%3A%2F%2Frim.ekom21.de%2Fegelsbach%2Ftops%2F%3F__%3DUGhVM0hpd2NXNFdF
 cExjZfecMgBEj6vczK25T06SF18%3C%2Fp%3E":Link zur Tagesordnung: https://rim
 .ekom21.de/egelsbach/tops/?__=UGhVM0hpd2NXNFdFcExjZfecMgBEj6vczK25T06SF18
CLASS:PUBLIC
DTSTART;TZID=Europe/Berlin:20260908T200000
DTEND;TZID=Europe/Berlin:20260908T220000
DTSTAMP:20260420T082108
END:VEVENT
BEGIN:VEVENT
UID:8b1fdd46e1ab6c1753cf099cad10ff0c@gruene-egelsbach.de
URL;VALUE=URI:https://gruene-egelsbach.de/termine/sozial-und-kulturaussch
 uss/
LOCATION:Rathaus, 63329 Egelsbach, Raum 25
SUMMARY:Sozial- und Kulturausschuss
DESCRIPTION;ALTREP="data:text/html,%3Cp%3ELink%20zur%20Tagesordnung%3A%20
 https%3A%2F%2Frim.ekom21.de%2Fegelsbach%2Ftops%2F%3F__%3DUGhVM0hpd2NXNFdF
 cExjZQLI9iHekTSG88ADClyw6TU%3C%2Fp%3E":Link zur Tagesordnung: https://rim
 .ekom21.de/egelsbach/tops/?__=UGhVM0hpd2NXNFdFcExjZQLI9iHekTSG88ADClyw6TU
CLASS:PUBLIC
DTSTART;TZID=Europe/Berlin:20260910T200000
DTEND;TZID=Europe/Berlin:20260910T220000
DTSTAMP:20260420T082108
END:VEVENT
BEGIN:VEVENT
UID:8ca59f4a832ad86f8b12901a88fdc8c1@gruene-egelsbach.de
URL;VALUE=URI:https://gruene-egelsbach.de/termine/haupt-und-finanzausschu
 ss/
LOCATION:Rathaus, 63329 Egelsbach, Raum 25
SUMMARY:Haupt- und Finanzausschuss
DESCRIPTION;ALTREP="data:text/html,%3Cp%3ELink%20zur%20Tagesordnung%3A%20
 https%3A%2F%2Frim.ekom21.de%2Fegelsbach%2Ftops%2F%3F__%3DUGhVM0hpd2NXNFdF
 cExjZXZBsKpBDVaKR-uKY1zJAJA%3C%2Fp%3E":Link zur Tagesordnung: https://rim
 .ekom21.de/egelsbach/tops/?__=UGhVM0hpd2NXNFdFcExjZXZBsKpBDVaKR-uKY1zJAJA
CLASS:PUBLIC
DTSTART;TZID=Europe/Berlin:20260917T200000
DTEND;TZID=Europe/Berlin:20260917T220000
DTSTAMP:20260420T082108
END:VEVENT
BEGIN:VEVENT
UID:d5549fef04bf40c2af966575891f24ac@gruene-egelsbach.de
URL;VALUE=URI:https://gruene-egelsbach.de/termine/praesidium/
LOCATION:Rathaus, 63329 Egelsbach, Raum 28
SUMMARY:Präsidium
DESCRIPTION;ALTREP="data:text/html,%3Cp%3ELink%20zur%20Tagesordnung%3A%20
 https%3A%2F%2Frim.ekom21.de%2Fegelsbach%2Ftops%2F%3F__%3DUGhVM0hpd2NXNFdF
 cExjZf4Jf3llFf6b_gUvRj5SpQo%3C%2Fp%3E":Link zur Tagesordnung: https://rim
 .ekom21.de/egelsbach/tops/?__=UGhVM0hpd2NXNFdFcExjZf4Jf3llFf6b_gUvRj5SpQo
CLASS:PUBLIC
DTSTART;TZID=Europe/Berlin:20260924T190000
DTEND;TZID=Europe/Berlin:20260924T200000
DTSTAMP:20260420T082108
END:VEVENT
BEGIN:VEVENT
UID:2cf683270e8fae75d635bdd94ea8e5cf@gruene-egelsbach.de
URL;VALUE=URI:https://gruene-egelsbach.de/termine/gemeindevertretung/
LOCATION:Rathaus, 63329 Egelsbach, Raum 25
SUMMARY:Gemeindevertretung
DESCRIPTION;ALTREP="data:text/html,%3Cp%3ELink%20zur%20Tagesordnung%3A%20
 https%3A%2F%2Frim.ekom21.de%2Fegelsbach%2Ftops%2F%3F__%3DUGhVM0hpd2NXNFdF
 cExjZcPmB_lsnVe4nEpoVUbyrQ0%3Cbr%20%2F%3E%0A%3Cbr%20%2F%3E%0ABemerkung%3A
 %3Cbr%20%2F%3E%0AHH%20Einbringung%3C%2Fp%3E":Link zur Tagesordnung: https
 ://rim.ekom21.de/egelsbach/tops/?__=UGhVM0hpd2NXNFdFcExjZcPmB_lsnVe4nEpoV
 UbyrQ0\n\nBemerkung:\n\nHH Einbringung
CLASS:PUBLIC
DTSTART;TZID=Europe/Berlin:20260924T200000
DTEND;TZID=Europe/Berlin:20260924T220000
DTSTAMP:20260420T082108
END:VEVENT
END:VCALENDAR