BEGIN:VCALENDAR
VERSION:2.0
PRODID:gruene-egelsbach.de
METHOD:PUBLISH
BEGIN:VTIMEZONE
TZID:Europe/Berlin
X-LIC-LOCATION:Europe/Berlin
BEGIN:DAYLIGHT
TZOFFSETFROM:+0100
TZOFFSETTO:+0200
TZNAME:CEST
DTSTART:19700329T020000
RRULE:FREQ=YEARLY;INTERVAL=1;BYDAY=-1SU;BYMONTH=3
END:DAYLIGHT
BEGIN:STANDARD
TZOFFSETFROM:+0200
TZOFFSETTO:+0100
TZNAME:CET
DTSTART:19701025T030000
RRULE:FREQ=YEARLY;INTERVAL=1;BYDAY=-1SU;BYMONTH=10
END:STANDARD
END:VTIMEZONE
BEGIN:VEVENT
UID:fefc4d1d5407c7734bf8ac873d5b579b@gruene-egelsbach.de
URL;VALUE=URI:https://gruene-egelsbach.de/termine/auslaenderbeirat-2/
LOCATION:Rathaus, 63329 Egelsbach, Raum 25
SUMMARY:Ausländerbeirat
DESCRIPTION;ALTREP="data:text/html,%3Cp%3ELink%20zur%20Tagesordnung%3A%20
 https%3A%2F%2Frim.ekom21.de%2Fegelsbach%2Ftops%2F%3F__%3DUGhVM0hpd2NXNFdF
 cExjZZwRjfWX67wjTCRbkj6neTw%3Cbr%20%2F%3E%0A%3Cbr%20%2F%3E%0ABemerkung%3A
 %3Cbr%20%2F%3E%0AKonstituierende%20Sitzung%3C%2Fp%3E":Link zur Tagesordnu
 ng: https://rim.ekom21.de/egelsbach/tops/?__=UGhVM0hpd2NXNFdFcExjZZwRjfWX
 67wjTCRbkj6neTw\n\nBemerkung:\n\nKonstituierende Sitzung
CLASS:PUBLIC
DTSTART;TZID=Europe/Berlin:20260423T190000
DTEND;TZID=Europe/Berlin:20260423T210000
DTSTAMP:20260422T110438
END:VEVENT
END:VCALENDAR